BEGIN:VCALENDAR
VERSION:2.0
PRODID:-//Carr, Riggs &amp; Ingram - ECPv6.15.18//NONSGML v1.0//EN
CALSCALE:GREGORIAN
METHOD:PUBLISH
X-WR-CALNAME:Carr, Riggs &amp; Ingram
X-ORIGINAL-URL:https://www.criadv.com
X-WR-CALDESC:Events for Carr, Riggs &amp; Ingram
REFRESH-INTERVAL;VALUE=DURATION:PT1H
X-Robots-Tag:noindex
X-PUBLISHED-TTL:PT1H
BEGIN:VTIMEZONE
TZID:America/Chicago
BEGIN:DAYLIGHT
TZOFFSETFROM:-0600
TZOFFSETTO:-0500
TZNAME:CDT
DTSTART:20210314T080000
END:DAYLIGHT
BEGIN:STANDARD
TZOFFSETFROM:-0500
TZOFFSETTO:-0600
TZNAME:CST
DTSTART:20211107T070000
END:STANDARD
BEGIN:DAYLIGHT
TZOFFSETFROM:-0600
TZOFFSETTO:-0500
TZNAME:CDT
DTSTART:20220313T080000
END:DAYLIGHT
BEGIN:STANDARD
TZOFFSETFROM:-0500
TZOFFSETTO:-0600
TZNAME:CST
DTSTART:20221106T070000
END:STANDARD
BEGIN:DAYLIGHT
TZOFFSETFROM:-0600
TZOFFSETTO:-0500
TZNAME:CDT
DTSTART:20230312T080000
END:DAYLIGHT
BEGIN:STANDARD
TZOFFSETFROM:-0500
TZOFFSETTO:-0600
TZNAME:CST
DTSTART:20231105T070000
END:STANDARD
BEGIN:DAYLIGHT
TZOFFSETFROM:-0600
TZOFFSETTO:-0500
TZNAME:CDT
DTSTART:20240310T080000
END:DAYLIGHT
BEGIN:STANDARD
TZOFFSETFROM:-0500
TZOFFSETTO:-0600
TZNAME:CST
DTSTART:20241103T070000
END:STANDARD
BEGIN:DAYLIGHT
TZOFFSETFROM:-0600
TZOFFSETTO:-0500
TZNAME:CDT
DTSTART:20250309T080000
END:DAYLIGHT
BEGIN:STANDARD
TZOFFSETFROM:-0500
TZOFFSETTO:-0600
TZNAME:CST
DTSTART:20251102T070000
END:STANDARD
END:VTIMEZONE
BEGIN:VTIMEZONE
TZID:America/New_York
BEGIN:DAYLIGHT
TZOFFSETFROM:-0500
TZOFFSETTO:-0400
TZNAME:EDT
DTSTART:20210314T070000
END:DAYLIGHT
BEGIN:STANDARD
TZOFFSETFROM:-0400
TZOFFSETTO:-0500
TZNAME:EST
DTSTART:20211107T060000
END:STANDARD
BEGIN:DAYLIGHT
TZOFFSETFROM:-0500
TZOFFSETTO:-0400
TZNAME:EDT
DTSTART:20220313T070000
END:DAYLIGHT
BEGIN:STANDARD
TZOFFSETFROM:-0400
TZOFFSETTO:-0500
TZNAME:EST
DTSTART:20221106T060000
END:STANDARD
BEGIN:DAYLIGHT
TZOFFSETFROM:-0500
TZOFFSETTO:-0400
TZNAME:EDT
DTSTART:20230312T070000
END:DAYLIGHT
BEGIN:STANDARD
TZOFFSETFROM:-0400
TZOFFSETTO:-0500
TZNAME:EST
DTSTART:20231105T060000
END:STANDARD
END:VTIMEZONE
BEGIN:VTIMEZONE
TZID:America/New_York
BEGIN:DAYLIGHT
TZOFFSETFROM:-0500
TZOFFSETTO:-0400
TZNAME:EDT
DTSTART:20200308T070000
END:DAYLIGHT
BEGIN:STANDARD
TZOFFSETFROM:-0400
TZOFFSETTO:-0500
TZNAME:EST
DTSTART:20201101T060000
END:STANDARD
BEGIN:DAYLIGHT
TZOFFSETFROM:-0500
TZOFFSETTO:-0400
TZNAME:EDT
DTSTART:20210314T070000
END:DAYLIGHT
BEGIN:STANDARD
TZOFFSETFROM:-0400
TZOFFSETTO:-0500
TZNAME:EST
DTSTART:20211107T060000
END:STANDARD
BEGIN:DAYLIGHT
TZOFFSETFROM:-0500
TZOFFSETTO:-0400
TZNAME:EDT
DTSTART:20220313T070000
END:DAYLIGHT
BEGIN:STANDARD
TZOFFSETFROM:-0400
TZOFFSETTO:-0500
TZNAME:EST
DTSTART:20221106T060000
END:STANDARD
END:VTIMEZONE
BEGIN:VEVENT
DTSTART;TZID=America/Chicago:20240806T100000
DTEND;TZID=America/Chicago:20240806T110000
DTSTAMP:20260420T031943
CREATED:20240708T161716Z
LAST-MODIFIED:20240806T153635Z
UID:10000088-1722938400-1722942000@www.criadv.com
SUMMARY:Discover the Market Value of Your Business
DESCRIPTION:Understanding and elevating your company’s market value is crucial for strategic planning and long-term sustainability. We invite you to attend a premier webinar hosted by Carr\, Riggs & Ingram (CRI) and CRI Capital Advisors. This event features a panel of esteemed industry figures\, including Marc Berry\, Paul Evans\, Brandon Maddox\, and Joel Sikes\, ready to share invaluable insights on enhancing your business’s market value. \nThe webinar aims to equip you with essential knowledge on accurately determining your company’s current value and leveraging this baseline assessment for strategic planning and legacy health. Our presenters will guide you through proven strategies to increase your business’s market value\, ensuring ongoing growth and success. This webinar is an invaluable opportunity for business owners committed to maximizing their company’s potential. \nThis webinar has ended\, but you can still view the recording. 
URL:https://www.criadv.com/event/discover-the-market-value-of-your-business/
LOCATION:Virtual
CATEGORIES:Webinar
ATTACH;FMTTYPE=image/png:https://www.criadv.com/wp-content/uploads/2024/07/blank-1.png
END:VEVENT
BEGIN:VEVENT
DTSTART;TZID=America/Chicago:20240625T100000
DTEND;TZID=America/Chicago:20240625T120000
DTSTAMP:20260420T031943
CREATED:20240521T190203Z
LAST-MODIFIED:20240625T164307Z
UID:10000086-1719309600-1719316800@www.criadv.com
SUMMARY:A Deep Dive into GASB Statement 103's Financial Reporting Model Improvements
DESCRIPTION:After more than 10 years of research\, public input\, and deliberations evaluating the effectiveness of Statement 34 and related pronouncements\, the Governmental Accounting Standards Board has issued Statement No. 103\, Financial Reporting Model Improvements. The GASB’s latest statement addresses management’s discussion and analysis\, unusual and infrequent items\, proprietary fund financial statements\, definitions of operating and nonoperating revenues and expenses\, budgetary comparisons\, and reporting of significant component units. Join us for a thorough review of those requirements and a discussion of what governments must do to prepare for implementation. \nThis webinar has ended\, but you can still view the recording. 
URL:https://www.criadv.com/event/a-deep-dive-into-gasb-statement-103s-financial-reporting-model-improvements/
LOCATION:Virtual
CATEGORIES:Webinar
ATTACH;FMTTYPE=image/png:https://www.criadv.com/wp-content/uploads/2024/05/blank.png
END:VEVENT
BEGIN:VEVENT
DTSTART;TZID=America/Chicago:20231114T100000
DTEND;TZID=America/Chicago:20231114T110000
DTSTAMP:20260420T031943
CREATED:20231006T143739Z
LAST-MODIFIED:20231114T181337Z
UID:10000075-1699956000-1699959600@www.criadv.com
SUMMARY:2023 Year-End Tax Planning for Individuals & Families: Strategize\, Optimize\, Maximize
DESCRIPTION:In the face of an ever-changing tax landscape\, strategic planning is more vital than ever. CRI’s Year-End Tax Planning for Individuals & Families provides valuable insights for taxpayers as they navigate the complexities\, obstacles\, and tax policy changes that the 2023 tax year brings to the table. Reducing penalties\, maximizing available funds\, and making the most of potential aid and deductions are the name of the game this planning season. Join us for this live event as CRI tax partners Kris Hoffman\, Stephanie Spinucci\, and Tom Monte guide you through evolving tax law updates\, tried and true planning strategies\, and other best practices to make this filing season the smoothest possible. \nThis webinar has ended\, but you can still view the recording.
URL:https://www.criadv.com/event/2023-year-end-tax-planning-for-individuals-families-strategize-optimize-maximize/
LOCATION:Virtual
CATEGORIES:Webinar
ATTACH;FMTTYPE=image/png:https://www.criadv.com/wp-content/uploads/2023/10/blank.png
END:VEVENT
BEGIN:VEVENT
DTSTART;TZID=America/Chicago:20230622T100000
DTEND;TZID=America/Chicago:20230622T110000
DTSTAMP:20260420T031943
CREATED:20230605T163730Z
LAST-MODIFIED:20230622T161536Z
UID:10000072-1687428000-1687431600@www.criadv.com
SUMMARY:Introduction to the Global Internal Audit Standards
DESCRIPTION:The Internal Standards for the Professional Practice of Auditing and the International Professional Practices Framework (IPPF) are transforming with the recently released draft of the Global Internal Audit Standards.   \nJoin CRI Financial Services partners Doug Mims and Phyllis Ingram as they provide an introduction and overview of the new Standards\, including the five domains: Purpose of Internal Auditing (Domain I)\, Ethics and Professionalism (Domain II)\, Governing the Internal Audit Function (Domain III)\, Managing the Internal Audit Function (Domain IV)\, and Performing Internal Audit Service (Domain V). This live webinar event will also explore the 15 principles that make up the five domains to provide attendees with a foundation for understanding the depth and breadth of the new Global Internal Audit Standards.  \nThis event has ended\, but you can still view the recording. 
URL:https://www.criadv.com/event/introduction-to-the-global-internal-audit-standards/
LOCATION:Virtual
CATEGORIES:Webinar
ATTACH;FMTTYPE=image/png:https://www.criadv.com/wp-content/uploads/2023/06/Intro-to-the-Global-Audit-Standards-Hero-blank.png
END:VEVENT
BEGIN:VEVENT
DTSTART;TZID=America/Chicago:20230620T100000
DTEND;TZID=America/Chicago:20230620T110000
DTSTAMP:20260420T031943
CREATED:20230609T200603Z
LAST-MODIFIED:20230620T161543Z
UID:10000073-1687255200-1687258800@www.criadv.com
SUMMARY:How Secure Is Your Company Retirement Plan: Updates and New Rules To Follow
DESCRIPTION:Join us for an informative webinar as we delve into the significant provisions of the SECURE 2.0 Act of 2022\, recently passed by Congress. This comprehensive session will explore the new regulations included in the act\, providing updates and insights on how they impact employer-sponsored retirement plans. \nOur presenters\, Joy Hodgson\, Chief Operations Officer & Partner at CRI TPA Services and Daniel Rodriguez\, Chief Executive Officer & Partner at CRI TPA Services\, will guide you through a detailed analysis of these provisions\, covering key aspects such as the Roth provisions\, Automatic Enrollment/Escalation\, Long-Term/Part-Time Employees\, and the newly available tax credits for start-up retirement plans. Gain a comprehensive understanding of the SECURE 2.0 Act and its direct implications for your institution’s retirement plan. \nThis webinar has ended\, but you can still view the recording.
URL:https://www.criadv.com/event/how-secure-is-your-company-retirement-plan-updates-and-new-rules-to-follow/
LOCATION:Virtual
CATEGORIES:Webinar
ATTACH;FMTTYPE=image/png:https://www.criadv.com/wp-content/uploads/2023/06/blank-image-right.png
END:VEVENT
BEGIN:VEVENT
DTSTART;TZID=America/Chicago:20230131T100000
DTEND;TZID=America/Chicago:20230131T120000
DTSTAMP:20260420T031943
CREATED:20230105T213035Z
LAST-MODIFIED:20230914T193727Z
UID:10000064-1675159200-1675166400@www.criadv.com
SUMMARY:Did You Know...? A Guide to Governmental Accounting and Auditing Resources
DESCRIPTION:While a wide range of online resources are available to benefit government accountants and auditors\, many professionals who would benefit from them the most are unaware that they even exist. \nJoin CRI partners Gwen Mansfield-Vogt and Dean Michael Mead for this comprehensive webinar introducing the online guidance\, practice aids\, and other resources provided by the Governmental Accounting Standards Board (GASB)\, the American Institute of CPAs’ Government Audit Quality Center (AICPA GAQC)\, and other organizations. Participants will discover these online resources\, how and where to locate them\, and how to utilize them to improve the efficiency and quality of their work. \nThis webinar has ended\, but you can still watch the recording.
URL:https://www.criadv.com/event/did-you-know-a-guide-to-governmental-accounting-and-auditing-resources/
LOCATION:Virtual
CATEGORIES:Webinar
ATTACH;FMTTYPE=image/png:https://www.criadv.com/wp-content/uploads/2023/01/blank.png
END:VEVENT
BEGIN:VEVENT
DTSTART;TZID=America/Chicago:20230126T100000
DTEND;TZID=America/Chicago:20230126T110000
DTSTAMP:20260420T031943
CREATED:20230105T202901Z
LAST-MODIFIED:20230127T175436Z
UID:10000063-1674727200-1674730800@www.criadv.com
SUMMARY:The Importance of an Effective System of Internal Control
DESCRIPTION:Start the new year out the right way with this timely webinar providing an overview of the importance of an effective system of internal control. Join CRI partners Jimmy Woodall and Tom Carmichael as they discuss the importance of identifying operational\, reporting\, and compliance risks. \nThis webinar has ended\, but you can still watch the recording.
URL:https://www.criadv.com/event/the-importance-of-an-effective-system-of-internal-control/
LOCATION:Virtual
CATEGORIES:Webinar
ATTACH;FMTTYPE=image/png:https://www.criadv.com/wp-content/uploads/2023/01/internal-controls-webinar-hero-image.png
END:VEVENT
BEGIN:VEVENT
DTSTART;TZID=America/Chicago:20221116T140000
DTEND;TZID=America/Chicago:20221116T150000
DTSTAMP:20260420T031943
CREATED:20221019T202905Z
LAST-MODIFIED:20230127T175211Z
UID:10000061-1668607200-1668610800@www.criadv.com
SUMMARY:Cost Segregation Studies: Opportunities for Contractors
DESCRIPTION:As a contractor\, are you aware of the advantages that a cost segregation study can provide your business? Cost segregation studies can identify specific building equipment and components that qualify for the benefits of accelerated depreciation\, as well as offer substantial value-added rewards for the customers of contractors who develop commercial and residential properties. Join CRI Commercial Products Industry Line Leader Tom Carmichael and CRI Tax Partner Geoffrey Cover for this informative webinar as they discuss the essentials of cost segregation studies for contractors to understand\, the potential benefits they offer building owners\, and the role that contractors can play in helping them realize those benefits. By helping building owners achieve potential tax benefits and strategically improving their cash flow through cost segregation studies\, they are ultimately strengthening their customer relationships—which is often the ultimate goal. \nThis webinar has ended\, but you can still watch the recording.
URL:https://www.criadv.com/event/cost-segregation-studies-opportunities-for-contractors/
LOCATION:Virtual
CATEGORIES:Webinar
ATTACH;FMTTYPE=image/png:https://www.criadv.com/wp-content/uploads/2022/10/3.png
END:VEVENT
BEGIN:VEVENT
DTSTART;TZID=America/Chicago:20221103T140000
DTEND;TZID=America/Chicago:20221103T150000
DTSTAMP:20260420T031943
CREATED:20220929T210651Z
LAST-MODIFIED:20230127T175101Z
UID:10000060-1667484000-1667487600@www.criadv.com
SUMMARY:2022 Year-End Planning for Businesses
DESCRIPTION:In the face of an ever-changing tax landscape\, strategic planning is more vital than ever. CRI’s Year-End Tax Planning webinars provide valuable insights for taxpayers as they navigate the complexities\, obstacles\, and tax policy changes that the 2022 tax year brings to the table. Reducing penalties\, maximizing available funds\, ensuring compliance\, and making the most of potential aid and deductions are the name of the game this planning season. Join us for these live\, CPE-eligible events as CRI tax advisors Adria Deren\, Kris Hoffman\, and Addison Maille guide you through evolving tax law updates\, tried and true planning strategies\, and other best practices to make this filing season the smoothest possible for your business or organization. \nThis webinar has ended\, but you can still watch the recording. 
URL:https://www.criadv.com/event/2022-year-end-planning-for-businesses/
LOCATION:Virtual
CATEGORIES:Webinar
ATTACH;FMTTYPE=image/png:https://www.criadv.com/wp-content/uploads/2022/09/yep-2022-bus-hero-image.png
END:VEVENT
BEGIN:VEVENT
DTSTART;TZID=America/Chicago:20221103T100000
DTEND;TZID=America/Chicago:20221103T110000
DTSTAMP:20260420T031943
CREATED:20220929T210247Z
LAST-MODIFIED:20230127T174949Z
UID:10000059-1667469600-1667473200@www.criadv.com
SUMMARY:2022 Year-End Planning for Individuals & Families
DESCRIPTION:In the face of an ever-changing tax landscape\, strategic planning is more vital than ever. CRI’s Year-End Tax Planning for Individuals & Families provides valuable insights for taxpayers as they navigate the complexities\, obstacles\, and tax policy changes that the 2022 tax year brings to the table. Reducing penalties\, maximizing available funds\, and making the most of potential aid and deductions are the name of the game this planning season. Join us for this live event as CRI tax advisors Kris Hoffman\, Richard Lanois\, and Patty McGill guide you through evolving tax law updates\, tried and true planning strategies\, and other best practices to make this filing season the smoothest possible. \nThis webinar has ended\, but you can still watch the recording. 
URL:https://www.criadv.com/event/2022-year-end-planning-for-individuals-families/
LOCATION:Virtual
CATEGORIES:Webinar
ATTACH;FMTTYPE=image/png:https://www.criadv.com/wp-content/uploads/2022/09/yep-2022-indv-hero-image.png
END:VEVENT
BEGIN:VEVENT
DTSTART;TZID=America/New_York:20220804T110000
DTEND;TZID=America/New_York:20220804T113000
DTSTAMP:20260420T031943
CREATED:20220630T215859Z
LAST-MODIFIED:20230127T174526Z
UID:10000056-1659610800-1659612600@www.criadv.com
SUMMARY:In the Know: Pass Through Entity Tax Webinar (Georgia House Bill 149)
DESCRIPTION:Join the CRI-Atlanta team as they familiarize Georgia-based clients with House Bill 149. This legislation allows pass-through entities to pay state tax at the entity level rather than through individual owners and partners\, alleviating the $10\,000 SALT cap put in place through the Tax Cuts and Jobs Act. \nThis webinar has ended\, but you can still watch the recording.
URL:https://www.criadv.com/event/georgia-house-bill-149-webinar/
LOCATION:Virtual
CATEGORIES:Webinar
ATTACH;FMTTYPE=image/png:https://www.criadv.com/wp-content/uploads/2022/06/Pass-Through-Entity-Tax-Georgia-House-Bill-149_Hero-Image_960x695_1.png
END:VEVENT
BEGIN:VEVENT
DTSTART;TZID=America/Chicago:20220714T100000
DTEND;TZID=America/Chicago:20220714T120000
DTSTAMP:20260420T031943
CREATED:20220615T174308Z
LAST-MODIFIED:20230530T144458Z
UID:10000055-1657792800-1657800000@www.criadv.com
SUMMARY:A High-Yield Investment Class: Novice to Proficient
DESCRIPTION:Join CRI’s governmental team for a free introduction to governmental investments\, investment terminology\, market trends\, and forecast analysis. Participants can also gain an understanding of the appropriate GASB accounting requirements\, including the necessary note disclosures. Our governmental professionals will be utilizing their extensive experience in governmental investments and GASB accounting requirements to conduct a live Q&A during the session. \nThis webinar has ended\, but you can still watch the recording.
URL:https://www.criadv.com/event/a-high-yield-governmental-investment-class-novice-to-proficient/
LOCATION:Virtual
CATEGORIES:Government & Public Sector,Webinar
ATTACH;FMTTYPE=image/png:https://www.criadv.com/wp-content/uploads/2022/06/a-high-yield-investment-class-webinar.png
END:VEVENT
BEGIN:VEVENT
DTSTART;TZID=America/Chicago:20220621T100000
DTEND;TZID=America/Chicago:20220621T110000
DTSTAMP:20260420T031943
CREATED:20220523T140614Z
LAST-MODIFIED:20230127T173509Z
UID:10000054-1655805600-1655809200@www.criadv.com
SUMMARY:Cryptocurrency Fundamentals for Financial Institutions
DESCRIPTION:Demystifying Digital Assets in the Marketplace\nHeads up\, financial institutions\, the future is here. Join the CRI Financial Institutions team leaders as they depict a basic understanding of crypto assets\, including Cryptocurrency\, Stablecoins\, Central Bank Digital Currencies (CBDCs)\, and Non-Fungible Tokens (NFTs). We will also seek to demystify Blockchain technology and Decentralized Finance (DeFi) and discuss a variety of uses for cryptocurrency in the marketplace. In addition\, we will provide an overview of current bank regulatory guidance\, executive branch directives\, and opportunities and risks for financial institutions in the crypto space. \nThis webinar has ended\, but you can still watch the recording.
URL:https://www.criadv.com/event/cryptocurrency-fundamentals-webinar/
LOCATION:Virtual
CATEGORIES:Financial Institutions,Webinar
ATTACH;FMTTYPE=image/png:https://www.criadv.com/wp-content/uploads/2022/05/Cryptocurrency-Fundamentals-for-Financial-Institutions_Hero-Image_960x695_2.png
END:VEVENT
BEGIN:VEVENT
DTSTART;TZID=America/Chicago:20220419T100000
DTEND;TZID=America/Chicago:20220419T120000
DTSTAMP:20260420T031943
CREATED:20220321T140329Z
LAST-MODIFIED:20230126T221152Z
UID:10000041-1650362400-1650369600@www.criadv.com
SUMMARY:The Name's Bond\, Government Bond - CPE Webinar
DESCRIPTION:Join CRI’s Governmental team for a comprehensive discussion regarding all matters related to government bonds. CRI partner Keith Hundley\, CPA\, and CRI partner Tyler Dunaway\, CPA\, will explore topics such as the process of obtaining bond financing\, understanding bond ratings\, and the role of rating agencies. Attendees will learn more about the trends and typical rates in the market today\, the types of bonds available\, and the appropriate accounting treatment for a range of different scenarios including bond refunding and defeasance. \nLive webinar attendees are eligible for 2.0 hours of CPE credit.  \nThis webinar has ended\, but you can still watch the recording.
URL:https://www.criadv.com/event/the-names-bond-government-bond-cpe-webinar/
LOCATION:Virtual
CATEGORIES:Government & Public Sector,Webinar
ATTACH;FMTTYPE=image/png:https://www.criadv.com/wp-content/uploads/2022/03/government-bond-webinar.png
END:VEVENT
BEGIN:VEVENT
DTSTART;TZID=America/New_York:20211207T100000
DTEND;TZID=America/New_York:20211207T120000
DTSTAMP:20260420T031943
CREATED:20211111T173734Z
LAST-MODIFIED:20230126T211948Z
UID:10000038-1638871200-1638878400@www.criadv.com
SUMMARY:COVID-19 Funding Best Practices\, Accounting Treatment\, and Single Audit Implications
DESCRIPTION:Join CRI for an insightful webinar regarding the Coronavirus Relief Fund\, Education Stabilization Fund\, and the requirements that go along with them. CRI partners Gwen Mansfield-Vogt\, CPA\, and April Shuping\, CPA\, CGFO\, will discuss eligible expenses and their appropriate accounting treatment. The live session will also cover single audit requirements and pitfalls\, what industry professionals will need to know in order to stay compliant\, and latest guidance on the American Rescue Plan (ARP). \nLive webinar attendees are eligible for 2.0 hours of CPE credit.  \nThis webinar has ended\, but you can still watch the recording.
URL:https://www.criadv.com/event/covid-19-funding-best-practices-virtual-event/
LOCATION:Virtual
CATEGORIES:Government & Public Sector,Webinar
ATTACH;FMTTYPE=image/png:https://www.criadv.com/wp-content/uploads/2021/10/COVID_CARES-Act_Webinar_Event-Calendar-Button_600x400_BLANK.png
END:VEVENT
END:VCALENDAR